BEGIN:VCALENDAR
VERSION:2.0
PRODID:-//Think Ahead Esports Club &amp; Academy - ECPv6.15.20//NONSGML v1.0//EN
CALSCALE:GREGORIAN
METHOD:PUBLISH
X-WR-CALNAME:Think Ahead Esports Club &amp; Academy
X-ORIGINAL-URL:https://thinkaheadpros.com
X-WR-CALDESC:Events for Think Ahead Esports Club &amp; Academy
REFRESH-INTERVAL;VALUE=DURATION:PT1H
X-Robots-Tag:noindex
X-PUBLISHED-TTL:PT1H
BEGIN:VTIMEZONE
TZID:America/Halifax
BEGIN:DAYLIGHT
TZOFFSETFROM:-0400
TZOFFSETTO:-0300
TZNAME:ADT
DTSTART:20240310T060000
END:DAYLIGHT
BEGIN:STANDARD
TZOFFSETFROM:-0300
TZOFFSETTO:-0400
TZNAME:AST
DTSTART:20241103T050000
END:STANDARD
BEGIN:DAYLIGHT
TZOFFSETFROM:-0400
TZOFFSETTO:-0300
TZNAME:ADT
DTSTART:20250309T060000
END:DAYLIGHT
BEGIN:STANDARD
TZOFFSETFROM:-0300
TZOFFSETTO:-0400
TZNAME:AST
DTSTART:20251102T050000
END:STANDARD
BEGIN:DAYLIGHT
TZOFFSETFROM:-0400
TZOFFSETTO:-0300
TZNAME:ADT
DTSTART:20260308T060000
END:DAYLIGHT
BEGIN:STANDARD
TZOFFSETFROM:-0300
TZOFFSETTO:-0400
TZNAME:AST
DTSTART:20261101T050000
END:STANDARD
END:VTIMEZONE
BEGIN:VEVENT
DTSTART;TZID=America/Halifax:20250824T000000
DTEND;TZID=America/Halifax:20250824T235959
DTSTAMP:20260422T115202
CREATED:20250825T033936Z
LAST-MODIFIED:20250825T040646Z
UID:11585-1755993600-1756079999@thinkaheadpros.com
SUMMARY:Repeat
DESCRIPTION:Repeat is a platform that focuses on automated\, skill-based tournaments within popular video games\, allowing players to compete for cash prizes simply by playing regular matches and climbing leaderboards based on their performance. \n\n\n\n\n\n\n\nTAKE ME THERE
URL:https://thinkaheadpros.com/event/repeat/
LOCATION:Global\, United States
CATEGORIES:24/7,Tournaments
ATTACH;FMTTYPE=image/png:https://thinkaheadpros.com/wp-content/uploads/2025/08/Repeat.gg-logo.png
END:VEVENT
BEGIN:VEVENT
DTSTART;TZID=America/Halifax:20250824T000000
DTEND;TZID=America/Halifax:20250824T235959
DTSTAMP:20260422T115202
CREATED:20250825T023645Z
LAST-MODIFIED:20250825T034530Z
UID:11576-1755993600-1756079999@thinkaheadpros.com
SUMMARY:Battlefy
DESCRIPTION:Battlefy is a popular and versatile platform for esports tournament management and organization\, used by players\, communities\, and professional organizers to create and participate in online competitions simply and efficiently. \n\n\n\n\n\n\n\nTAKE ME THERE
URL:https://thinkaheadpros.com/event/battlefy/
LOCATION:Global\, United States
CATEGORIES:Custom,Tournaments
ATTACH;FMTTYPE=image/png:https://thinkaheadpros.com/wp-content/uploads/2025/08/Battlefy-Logo.png
END:VEVENT
BEGIN:VEVENT
DTSTART;TZID=America/Halifax:20250824T000000
DTEND;TZID=America/Halifax:20250824T235959
DTSTAMP:20260422T115202
CREATED:20250824T201033Z
LAST-MODIFIED:20250825T035412Z
UID:11563-1755993600-1756079999@thinkaheadpros.com
SUMMARY:EWC
DESCRIPTION:The Esports World Cup (EWC) is a high-caliber esports championship bringing together top players and teams worldwide across various disciplines\, offering an elite competitive stage and substantial prize pools. \n\n\n\n\n\n\n\nTAKE ME THERE
URL:https://thinkaheadpros.com/event/ewc/
LOCATION:Saudi Arabia\, Riyadh\, Riyadh\, Saudi Arabia
CATEGORIES:Championship
ATTACH;FMTTYPE=image/jpeg:https://thinkaheadpros.com/wp-content/uploads/2025/08/EWC-logo.jpg
END:VEVENT
BEGIN:VEVENT
DTSTART;TZID=America/Halifax:20250824T000000
DTEND;TZID=America/Halifax:20250824T235959
DTSTAMP:20260422T115202
CREATED:20250824T180433Z
LAST-MODIFIED:20250825T040403Z
UID:11545-1755993600-1756079999@thinkaheadpros.com
SUMMARY:TrueGamers
DESCRIPTION:Truegamers is a platform that organizes a variety of esports tournaments\, offering players the chance to compete across different games and skill levels\, with a focus on building communities and fostering emerging talent. \n\n\n\n\n\n\n\nTAKE ME THERE
URL:https://thinkaheadpros.com/event/truegamers/
LOCATION:United Arab Emirates\, Abu Dhabi\, United Arab Emirates
CATEGORIES:Tournaments
ATTACH;FMTTYPE=image/jpeg:https://thinkaheadpros.com/wp-content/uploads/2025/01/truegamers-logo.jpg
ORGANIZER;CN="TrueGamers":MAILTO:info@truegamers.world
END:VEVENT
END:VCALENDAR